BEGIN:VCALENDAR
VERSION:2.0
PRODID:EVENTFROG//EVENT//ICAL
BEGIN:VEVENT
UID:20260425T123304Z-7452258891876819376@eventfrog.ch
DTSTAMP:20260425T123304Z
DTSTART:20260705T083000Z
DTEND:20260705T123000Z
SUMMARY:Soul Sunday im Yogahaus am Wald
DESCRIPTION:Am 5.7. lade ich Dich ins Yoga-Haus am Wald zu vier Stunden Breathwork, EFT und Soundhealing für tiefe Entspannung und Selbstwahrnehmung ein.\n\nhttps://eventfrog.ch/de/p/gesundheit-spiritualitaet/spiritualitaet/soul-sunday-im-yogahaus-am-wald-7452258891876819376.html
LOCATION:Yogahaus am Wald
GEO:50.817011;7.989192
URL:https://eventfrog.ch/de/p/gesundheit-spiritualitaet/spiritualitaet/soul-sunday-im-yogahaus-am-wald-7452258891876819376.html
END:VEVENT
END:VCALENDAR