BEGIN:VCALENDAR
VERSION:2.0
PRODID:EVENTFROG//EVENT//ICAL
BEGIN:VEVENT
UID:20260424T075610Z-7452258939771579682@eventfrog.ch
DTSTAMP:20260424T075610Z
DTSTART:20261025T103000Z
DTEND:20261025T113000Z
SUMMARY:Sonntagsführung
DESCRIPTION:Sonntagsführung durch die Ausstellung «HAP Grieshaber – Einschnitt  Ausdruck. Sammlung Würth»\n\nhttps://eventfrog.ch/en/p/art-exhibitions/other-art-events/sonntagsfuehrung-7452258939771579682.html
LOCATION:Forum Würth Arlesheim
GEO:47.497009;7.607158
URL:https://eventfrog.ch/en/p/art-exhibitions/other-art-events/sonntagsfuehrung-7452258939771579682.html
END:VEVENT
END:VCALENDAR