BEGIN:VCALENDAR
VERSION:2.0
PRODID:EVENTFROG//EVENT//ICAL
BEGIN:VEVENT
UID:20260424T060819Z-7452273185226000814@eventfrog.ch
DTSTAMP:20260424T060819Z
DTSTART:20260502T180000Z
SUMMARY:Skymorph – Cello trifft E-Gitarre
DESCRIPTION:Skymorph – das Duo in der unkonventionellen Besetzung mit Cello und E-Gitarre kreiert instrumentale Klang-Metamorphosen.\n\nhttps://eventfrog.ch/de/p/konzerte/weitere-musikrichtungen/skymorph-cello-trifft-e-gitarre-7452273185226000814.html
LOCATION:Gloria Coworking Lenzburg
GEO:47.393793;8.177580
URL:https://eventfrog.ch/de/p/konzerte/weitere-musikrichtungen/skymorph-cello-trifft-e-gitarre-7452273185226000814.html
END:VEVENT
END:VCALENDAR