BEGIN:VCALENDAR
VERSION:2.0
PRODID:EVENTFROG//EVENT//ICAL
BEGIN:VEVENT
UID:20260424T063710Z-7452273828481212734@eventfrog.ch
DTSTAMP:20260424T063710Z
DTSTART:20260604T170000Z
DTEND:20260604T180000Z
SUMMARY:ATTACCA – «Feel the music» – Vili Polajnar
DESCRIPTION:Dieses Konzert untersucht, wie Körper innerhalb technologischer Systeme funktionieren. Die Partitur wird zu einem System von Beziehungen zwischen Interpret, Maschine und Publikum.\n\nhttps://eventfrog.ch/de/p/konzerte/weitere-musikrichtungen/attacca-feel-the-music-vili-polajnar-7452273828481212734.html
LOCATION:Gare du Nord – Bahnhof für Neue Musik
GEO:47.567389;7.607131
URL:https://eventfrog.ch/de/p/konzerte/weitere-musikrichtungen/attacca-feel-the-music-vili-polajnar-7452273828481212734.html
END:VEVENT
END:VCALENDAR