BEGIN:VCALENDAR
VERSION:2.0
PRODID:EVENTFROG//EVENT//ICAL
BEGIN:VEVENT
UID:20260424T075638Z-7452277645453057265@eventfrog.ch
DTSTAMP:20260424T075638Z
DTSTART:20260610T180000Z
DTEND:20260610T190000Z
SUMMARY:ATTACCA – «On the Edge» – Anton Kiefer
DESCRIPTION:Anton Kiefer präsentiert eine Auswahl elektronischer Kompositionen aus den letzten zwei Jahren, die sich mit Themen wie Isolation, Zerbrechlichkeit und Taubheit auseinandersetzen.\n\nhttps://eventfrog.ch/de/p/konzerte/weitere-musikrichtungen/attacca-on-the-edge-anton-kiefer-7452277645453057265.html
LOCATION:Gare du Nord – Bahnhof für Neue Musik
GEO:47.567389;7.607131
URL:https://eventfrog.ch/de/p/konzerte/weitere-musikrichtungen/attacca-on-the-edge-anton-kiefer-7452277645453057265.html
END:VEVENT
END:VCALENDAR