BEGIN:VCALENDAR
VERSION:2.0
PRODID:EVENTFROG//EVENT//ICAL
BEGIN:VEVENT
UID:20260424T081825Z-7452280369745798637@eventfrog.ch
DTSTAMP:20260424T081825Z
DTSTART:20260618T180000Z
DTEND:20260618T190000Z
SUMMARY:SOMMERBÜHNE: JIST. Jazz im Stall
DESCRIPTION:Die JISTONIANS präsentieren lebendige, improvisationsreiche Musik, die tanzbar, eigenständig und voller Spielfreude ist.\n\nhttps://eventfrog.ch/de/p/konzerte/jazz-blues/sommerbuehne-jist-jazz-im-stall-7452280369745798637.html
LOCATION:Schloss Wartegg
GEO:47.478425;9.530131
URL:https://eventfrog.ch/de/p/konzerte/jazz-blues/sommerbuehne-jist-jazz-im-stall-7452280369745798637.html
END:VEVENT
END:VCALENDAR