BEGIN:VCALENDAR
VERSION:2.0
PRODID:EVENTFROG//EVENT//ICAL
BEGIN:VEVENT
UID:20260426T004207Z-7452281507610111428@eventfrog.ch
DTSTAMP:20260426T004207Z
DTSTART:20260426T150000Z
DTEND:20260426T164000Z
SUMMARY:OSOMO - HORIZONTAL CONCERT - *Zusatzkonzert*
DESCRIPTION:OSOMO — Horizontal Concert — Liegekonzert —  Please bring your own lying mat, pillow, blanket, depending on your needs\n\nhttps://eventfrog.ch/de/p/konzerte/weitere-musikrichtungen/osomo-horizontal-concert-zusatzkonzert-7452281507610111428.html
LOCATION:Halle 1 - DanceEmotion Studio - Berufsschule für Bühnentanz -  5 Minuten vom Hauptbahnhof entfernt, im Herzen von Freiburg — ein wunderschöner, warmer Theatersaal mit hohen Decken und einer besonderen atmosphärischen Tiefe.
GEO:47.993552;7.848231
URL:https://eventfrog.ch/de/p/konzerte/weitere-musikrichtungen/osomo-horizontal-concert-zusatzkonzert-7452281507610111428.html
END:VEVENT
END:VCALENDAR