BEGIN:VCALENDAR
VERSION:2.0
PRODID:EVENTFROG//EVENT//ICAL
BEGIN:VEVENT
UID:20260424T063703Z-7452282684225626353@eventfrog.ch
DTSTAMP:20260424T063703Z
DTSTART:20260626T180000Z
DTEND:20260626T190000Z
SUMMARY:«Music and Scene in Transformation» – Miriam Paschetta
DESCRIPTION:Studierende des Masters «Musik und Szene in Transformation» der Hochschule für Musik Basel präsentieren ihre Abschlussarbeiten im Rahmen eines Minifestivals.\n\nhttps://eventfrog.ch/de/p/konzerte/weitere-musikrichtungen/music-and-scene-in-transformation-miriam-paschetta-7452282684225626353.html
LOCATION:Gare du Nord – Bahnhof für Neue Musik
GEO:47.567389;7.607131
URL:https://eventfrog.ch/de/p/konzerte/weitere-musikrichtungen/music-and-scene-in-transformation-miriam-paschetta-7452282684225626353.html
END:VEVENT
END:VCALENDAR