BEGIN:VCALENDAR
VERSION:2.0
PRODID:EVENTFROG//EVENT//ICAL
BEGIN:VEVENT
UID:20260424T081848Z-7452283835620847967@eventfrog.ch
DTSTAMP:20260424T081848Z
DTSTART:20260626T180000Z
DTEND:20260626T190000Z
SUMMARY:SOMMERBÜHNE: PETER WATERS, MICHAEL NEFF. DUO
DESCRIPTION:Peter Waters und Michael Neff bieten intime Klangreisen mit Klavier und Trompete, voller Gefühl und grosser Ausdruckskraft.\n\nhttps://eventfrog.ch/de/p/konzerte/jazz-blues/sommerbuehne-peter-waters-michael-neff-duo-7452283835620847967.html
LOCATION:Schloss Wartegg
GEO:47.478425;9.530131
URL:https://eventfrog.ch/de/p/konzerte/jazz-blues/sommerbuehne-peter-waters-michael-neff-duo-7452283835620847967.html
END:VEVENT
END:VCALENDAR