BEGIN:VCALENDAR
VERSION:2.0
PRODID:EVENTFROG//EVENT//ICAL
BEGIN:VEVENT
UID:20260424T063608Z-7452284920943138782@eventfrog.ch
DTSTAMP:20260424T063608Z
DTSTART:20260628T180000Z
DTEND:20260628T190000Z
SUMMARY:«Music and Scene in Transformation» – Emilė Ribokaitė
DESCRIPTION:Studierende des Masters «Musik und Szene in Transformation» der Hochschule für Musik Basel präsentieren ihre Abschlussarbeiten im Rahmen eines Minifestivals. \n\nhttps://eventfrog.ch/de/p/konzerte/weitere-musikrichtungen/music-and-scene-in-transformation-emil-ribokait-7452284920943138782.html
LOCATION:Gare du Nord – Bahnhof für Neue Musik
GEO:47.567389;7.607131
URL:https://eventfrog.ch/de/p/konzerte/weitere-musikrichtungen/music-and-scene-in-transformation-emil-ribokait-7452284920943138782.html
END:VEVENT
END:VCALENDAR