BEGIN:VCALENDAR
VERSION:2.0
PRODID:EVENTFROG//EVENT//ICAL
BEGIN:VEVENT
UID:20260424T060757Z-7452286487113004338@eventfrog.ch
DTSTAMP:20260424T060757Z
DTSTART:20260429T180000Z
DTEND:20260429T200000Z
SUMMARY:Live - Tobi Anders solo & Max Grün solo
DESCRIPTION:Ein Singer Songwriter Abend\n\nhttps://eventfrog.ch/de/p/konzerte/folk/live-tobi-anders-solo-max-gruen-solo-7452286487113004338.html
LOCATION:Peeng Bar
GEO:47.377118;8.525996
URL:https://eventfrog.ch/de/p/konzerte/folk/live-tobi-anders-solo-max-gruen-solo-7452286487113004338.html
END:VEVENT
END:VCALENDAR