BEGIN:VCALENDAR
VERSION:2.0
PRODID:EVENTFROG//EVENT//ICAL
BEGIN:VEVENT
UID:20260424T063616Z-7452291582793933388@eventfrog.ch
DTSTAMP:20260424T063616Z
DTSTART:20260514T160000Z
DTEND:20260514T170000Z
SUMMARY:FILMABEND «HAP GRIESHABER»
DESCRIPTION:Das Forum Würth Arlesheim zeigt das Filmportrait «HAP Grieshaber – Fragen der Zeit – Antworten eines Unabhängigen» von 1978.\n\nhttps://eventfrog.ch/de/p/kunst-ausstellungen/weitere-kunstveranstaltungen/filmabend-hap-grieshaber-7452291582793933388.html
LOCATION:Forum Würth Arlesheim
GEO:47.497009;7.607158
URL:https://eventfrog.ch/de/p/kunst-ausstellungen/weitere-kunstveranstaltungen/filmabend-hap-grieshaber-7452291582793933388.html
END:VEVENT
END:VCALENDAR