BEGIN:VCALENDAR
VERSION:2.0
PRODID:EVENTFROG//EVENT//ICAL
BEGIN:VEVENT
UID:20260424T181413Z-7452300403067117890@eventfrog.ch
DTSTAMP:20260424T181413Z
DTSTART:20261107T100000Z
DTEND:20261107T110000Z
SUMMARY:Öffentliche Museumsführung
DESCRIPTION:Bereichern Sie Ihren Museumsbesuch mit einer faszinierenden Führung und entdecken Sie spannende Hintergründe.\n\n\n\nhttps://eventfrog.ch/de/p/freizeit-ausfluege/ausflug/oeffentliche-museumsfuehrung-7452300403067117890.html
LOCATION:Museum Der Kleine Prinz und seine Welt
GEO:47.206886;7.538773
URL:https://eventfrog.ch/de/p/freizeit-ausfluege/ausflug/oeffentliche-museumsfuehrung-7452300403067117890.html
END:VEVENT
END:VCALENDAR