BEGIN:VCALENDAR
VERSION:2.0
PRODID:EVENTFROG//EVENT//ICAL
BEGIN:VEVENT
UID:20260424T181431Z-7452301721114572875@eventfrog.ch
DTSTAMP:20260424T181431Z
DTSTART:20260529T120000Z
DTEND:20260529T140000Z
SUMMARY:Kiezgeschichten – Die Bernauer Straße neu entdecken
DESCRIPTION:Erleben Sie eine Führung zur Berliner Mauer mit einer Kuratorin und tauschen Sie sich danach bei Tee über Nachbarschaft aus.\n\nhttps://eventfrog.ch/de/p/fuehrungen-vortraege/fuehrung/kiezgeschichten-die-bernauer-strasse-neu-entdecken-7452301721114572875.html
LOCATION:Besucherzentrum der Gedenkstätte Berliner Mauer
GEO:52.533777;13.387447
URL:https://eventfrog.ch/de/p/fuehrungen-vortraege/fuehrung/kiezgeschichten-die-bernauer-strasse-neu-entdecken-7452301721114572875.html
END:VEVENT
END:VCALENDAR