BEGIN:VCALENDAR
VERSION:2.0
PRODID:EVENTFROG//EVENT//ICAL
BEGIN:VEVENT
UID:20260425T163950Z-7452331975640126822@eventfrog.ch
DTSTAMP:20260425T163950Z
DTSTART:20261031T190000Z
DTEND:20261031T233000Z
SUMMARY:Fast Feet Floor
DESCRIPTION:Ein Fest für Fans flinker Füsse!\n\nhttps://eventfrog.ch/de/p/partys/swing/fast-feet-floor-7452331975640126822.html
LOCATION:Kellertheater Winterthur
GEO:47.499400;8.727120
URL:https://eventfrog.ch/de/p/partys/swing/fast-feet-floor-7452331975640126822.html
END:VEVENT
END:VCALENDAR