BEGIN:VCALENDAR
VERSION:2.0
PRODID:EVENTFROG//EVENT//ICAL
BEGIN:VEVENT
UID:20260424T094215Z-7452337398489289152@eventfrog.ch
DTSTAMP:20260424T094215Z
DTSTART:20260606T210000Z
DTEND:20260607T030000Z
SUMMARY:Vinahouse Party
DESCRIPTION:Am 6. Juni 2026 sorgt DJ GTCA im Penthouse Zürich mit Vinahouse, V-Pop und EDM für eine dynamische Nacht voller vietnamesischer Beats.\n\nhttps://eventfrog.ch/de/p/partys/house-techno/vinahouse-party-7452337398489289152.html
LOCATION:The Penthouse - Five Zurich
GEO:47.362658;8.495639
URL:https://eventfrog.ch/de/p/partys/house-techno/vinahouse-party-7452337398489289152.html
END:VEVENT
END:VCALENDAR