BEGIN:VCALENDAR
VERSION:2.0
PRODID:EVENTFROG//EVENT//ICAL
BEGIN:VEVENT
UID:20260424T051550Z-7452354767735516265@eventfrog.ch
DTSTAMP:20260424T051550Z
DTSTART:20260626T173000Z
SUMMARY:«Es ist genug: Norddeutsche Kantatenfür Tenor und Streicher»
DESCRIPTION:Raphael Höhn singt norddeutsche Kantaten, begleitet von Violinen und Cembalo, zum Saisonabschluss mit abwechslungsreicher Musik.\n\nhttps://eventfrog.ch/de/p/klassik-opern/klassik/es-ist-genug-norddeutsche-kantatenfuer-tenor-und-streicher-7452354767735516265.html
LOCATION:Reformierte Kirche Veltheim
GEO:47.509815;8.716547
URL:https://eventfrog.ch/de/p/klassik-opern/klassik/es-ist-genug-norddeutsche-kantatenfuer-tenor-und-streicher-7452354767735516265.html
END:VEVENT
END:VCALENDAR