BEGIN:VCALENDAR
VERSION:2.0
PRODID:EVENTFROG//EVENT//ICAL
BEGIN:VEVENT
UID:20260424T051619Z-7452361114392767954@eventfrog.ch
DTSTAMP:20260424T051619Z
DTSTART:20260510T080000Z
DTEND:20260510T150000Z
SUMMARY:Internationaler Museumstag im Kunstmuseum St.Gallen
DESCRIPTION:Führungen im Kunstmuseum St.Gallen in über zehn verschiedenen Sprachen. Am Internationalen Museumstag ist der Eintritt frei und Anmeldungen sind nicht erforderlich.\n\nhttps://eventfrog.ch/de/p/kunst-ausstellungen/kultur/internationaler-museumstag-im-kunstmuseum-st-gallen-7452361114392767954.html
LOCATION:Kunstmuseum St. Gallen
GEO:47.427814;9.381619
URL:https://eventfrog.ch/de/p/kunst-ausstellungen/kultur/internationaler-museumstag-im-kunstmuseum-st-gallen-7452361114392767954.html
END:VEVENT
END:VCALENDAR