BEGIN:VCALENDAR
VERSION:2.0
PRODID:EVENTFROG//EVENT//ICAL
BEGIN:VEVENT
UID:20260424T094220Z-7452380681936619331@eventfrog.ch
DTSTAMP:20260424T094220Z
DTSTART:20260509T153000Z
SUMMARY:Muttertagsständli Musikverein Vordemwald
DESCRIPTION:Der Musikverein spielt am 9. Mai 2026 um 17.30 Uhr ein Muttertagskonzert  beim Gemeindeplatz, bei schlechter Witterung  im Gemeindesaal. Anschliessend Apéro.\n\nhttps://eventfrog.ch/de/p/konzerte/blasmusik/muttertagsstaendli-musikverein-vordemwald-7452380681936619331.html
LOCATION:Gemeindeplatz
GEO:47.275281;7.901646
URL:https://eventfrog.ch/de/p/konzerte/blasmusik/muttertagsstaendli-musikverein-vordemwald-7452380681936619331.html
END:VEVENT
END:VCALENDAR