BEGIN:VCALENDAR
VERSION:2.0
PRODID:EVENTFROG//EVENT//ICAL
BEGIN:VEVENT
UID:20260424T072128Z-7452392832487169026@eventfrog.ch
DTSTAMP:20260424T072128Z
DTSTART:20260507T160000Z
SUMMARY:Vernissage NOT NOT UTOPIA
DESCRIPTION:«Not Not Utopia»zeigt Werke von sechs Künstler:innen, die utopische Welten als Gegenpol zur instabilen Gegenwart erforschen.\n\nhttps://eventfrog.ch/de/p/kunst-ausstellungen/ausstellung/vernissage-not-not-utopia-7452392832487169026.html
LOCATION:oxyd – Kunsträume
GEO:47.498011;8.722655
URL:https://eventfrog.ch/de/p/kunst-ausstellungen/ausstellung/vernissage-not-not-utopia-7452392832487169026.html
END:VEVENT
END:VCALENDAR