BEGIN:VCALENDAR
VERSION:2.0
PRODID:EVENTFROG//EVENT//ICAL
BEGIN:VEVENT
UID:20260424T072131Z-7452408815713041076@eventfrog.ch
DTSTAMP:20260424T072131Z
DTSTART:20260501T190000Z
SUMMARY:ANDREW AUDIGER TRIO moderne
DESCRIPTION:Andrew Audiger, Théo Duboule et Valentin Liechti forment un trio où jazz, folk et soft rock fusionnent en musique libre et moderne.\n\nhttps://eventfrog.ch/fr/p/concerts/jazz-blues/andrew-audiger-trio-moderne-7452408815713041076.html
LOCATION:Centre des Musiques Actuelles
GEO:46.196878;6.136636
URL:https://eventfrog.ch/fr/p/concerts/jazz-blues/andrew-audiger-trio-moderne-7452408815713041076.html
END:VEVENT
END:VCALENDAR