BEGIN:VCALENDAR
VERSION:2.0
PRODID:EVENTFROG//EVENT//ICAL
BEGIN:VEVENT
UID:20260424T063604Z-7452428466991928941@eventfrog.ch
DTSTAMP:20260424T063604Z
DTSTART:20260502T113000Z
DTEND:20260502T133000Z
SUMMARY:Exkursion mit Werner Hauenstein
DESCRIPTION:Exkursion vom Natur- und Vogelschutzverein Neuenhof\n\nhttps://eventfrog.ch/de/p/freizeit-ausfluege/wanderung/exkursion-mit-werner-hauenstein-7452428466991928941.html
LOCATION:Parkplatz gegenüber kath. Kirche
GEO:47.445666;8.332202
URL:https://eventfrog.ch/de/p/freizeit-ausfluege/wanderung/exkursion-mit-werner-hauenstein-7452428466991928941.html
END:VEVENT
END:VCALENDAR