BEGIN:VCALENDAR
VERSION:2.0
PRODID:EVENTFROG//EVENT//ICAL
BEGIN:VEVENT
UID:20260425T160821Z-7452445616439832903@eventfrog.ch
DTSTAMP:20260425T160821Z
DTSTART:20260426T100000Z
DTEND:20260426T120000Z
SUMMARY:Art Brunch - Struktur Kunst
DESCRIPTION:In einem Workshop lernst du, mit Strukturpaste kreative Reliefs zu gestalten und ein ganzes Kunstwerk zu erschaffen. - Kein Druck, keine Hektik - nur du und deine Kreativität :)\n\nhttps://eventfrog.ch/de/p/kurse-seminare/kunst-kultur/art-brunch-struktur-kunst-7452445616439832903.html
LOCATION:Aurora Events
GEO:51.354392;12.374693
URL:https://eventfrog.ch/de/p/kurse-seminare/kunst-kultur/art-brunch-struktur-kunst-7452445616439832903.html
END:VEVENT
END:VCALENDAR