BEGIN:VCALENDAR
VERSION:2.0
PRODID:EVENTFROG//EVENT//ICAL
BEGIN:VEVENT
UID:20260425T163951Z-7452469328627108513@eventfrog.ch
DTSTAMP:20260425T163951Z
DTSTART:20260523T131500Z
SUMMARY:Vocal-Jam Workshop mit Nhan Gia Vo
DESCRIPTION:Im Workshop lernst du Beatbox und baust mit der Loopstation eigene Beats auf, jeder erhält ein Mikrofon zum Üben.\n\nhttps://eventfrog.ch/de/p/kurse-seminare/musik-tanz/vocal-jam-workshop-mit-nhan-gia-vo-7452469328627108513.html
LOCATION:Ev.-luth. Paulusgemeinde Melle
GEO:52.212305;8.350016
URL:https://eventfrog.ch/de/p/kurse-seminare/musik-tanz/vocal-jam-workshop-mit-nhan-gia-vo-7452469328627108513.html
END:VEVENT
END:VCALENDAR