BEGIN:VCALENDAR
VERSION:2.0
PRODID:EVENTFROG//EVENT//ICAL
BEGIN:VEVENT
UID:20260424T072125Z-7452609294816513411@eventfrog.ch
DTSTAMP:20260424T072125Z
DTSTART:20260603T203000Z
DTEND:20260604T020000Z
SUMMARY:NOLEZIA
DESCRIPTION: Mercredi 3 juin (veille de jour férié)\n Jukebox @jukebox_club_sion\n 22h30 — 4h00\n DJ Cello & Valvid\n French rap • hip-hop • latino\n 16+\n\nhttps://eventfrog.ch/fr/p/soirees-fetes/hip-hop-rap/nolezia-7452609294816513411.html
LOCATION:Rue de Lausanne 130
GEO:46.227742;7.340626
URL:https://eventfrog.ch/fr/p/soirees-fetes/hip-hop-rap/nolezia-7452609294816513411.html
END:VEVENT
END:VCALENDAR