BEGIN:VCALENDAR
VERSION:2.0
PRODID:EVENTFROG//EVENT//ICAL
BEGIN:VEVENT
UID:20260424T072133Z-7452654555307734709@eventfrog.ch
DTSTAMP:20260424T072133Z
DTSTART:20260514T080000Z
DTEND:20260514T210509Z
SUMMARY:Vatertag im City Bowling
DESCRIPTION:Am 14.05.2026 ist Vatertag!\nFür alle Väter: Gratis Leihschuhe • Für alle: Ur Casseler 0,4 l nur 3,90 \n\nhttps://eventfrog.ch/de/p/freizeit-ausfluege/ausflug/vatertag-im-city-bowling-7452654555307734709.html
LOCATION:City Bowling Kassel
GEO:51.300036;9.477448
URL:https://eventfrog.ch/de/p/freizeit-ausfluege/ausflug/vatertag-im-city-bowling-7452654555307734709.html
END:VEVENT
END:VCALENDAR