BEGIN:VCALENDAR
VERSION:2.0
PRODID:EVENTFROG//EVENT//ICAL
BEGIN:VEVENT
UID:20260424T063641Z-7452661835449268081@eventfrog.ch
DTSTAMP:20260424T063641Z
DTSTART:20260717T120000Z
DTEND:20260717T170000Z
SUMMARY:RECONNECT – Einblicke ins künstlerische Schaffen
DESCRIPTION:Kulturschaffende gewähren exklusiven Einblick in ihr Schaffen im Garten der Villa auf dem Landsitz Castelen.\n\nhttps://eventfrog.ch/de/p/fuehrungen-vortraege/fuehrung/reconnect-einblicke-ins-kuenstlerische-schaffen-7452661835449268081.html
LOCATION:Landgut Castelen (bei Augusta Raurica)
GEO:47.534574;7.721220
URL:https://eventfrog.ch/de/p/fuehrungen-vortraege/fuehrung/reconnect-einblicke-ins-kuenstlerische-schaffen-7452661835449268081.html
END:VEVENT
END:VCALENDAR