BEGIN:VCALENDAR
VERSION:2.0
PRODID:EVENTFROG//EVENT//ICAL
BEGIN:VEVENT
UID:20260424T063704Z-7452665945527443766@eventfrog.ch
DTSTAMP:20260424T063704Z
DTSTART:20260512T170000Z
SUMMARY:Gestört erzählt: Anorexie, Trauma und Selbstakzeptanz
DESCRIPTION:Live-Talk mit einem Psychotherapeuten und einer Betroffenen.\n\nhttps://eventfrog.ch/de/p/fuehrungen-vortraege/podium/gestoert-erzaehlt-anorexie-trauma-und-selbstakzeptanz-7452665945527443766.html
LOCATION:Karl der Grosse - Saal
GEO:47.370552;8.545169
URL:https://eventfrog.ch/de/p/fuehrungen-vortraege/podium/gestoert-erzaehlt-anorexie-trauma-und-selbstakzeptanz-7452665945527443766.html
END:VEVENT
END:VCALENDAR