BEGIN:VCALENDAR
VERSION:2.0
PRODID:EVENTFROG//EVENT//ICAL
BEGIN:VEVENT
UID:20260426T000953Z-7452683943520808965@eventfrog.ch
DTSTAMP:20260426T000953Z
DTSTART:20260614T140000Z
DTEND:20260614T160000Z
SUMMARY:Concerto im Chinesischen Pavillon
DESCRIPTION:Schüler und Alumni des Sächsischen Landesgymnasiums Dresden spielen Webers Musik zum 200. Todestag am 5. Juni im Chinesischen Pavillon.\n\nhttps://eventfrog.ch/de/p/klassik-opern/klassik/concerto-im-chinesischen-pavillon-7452683943520808965.html
LOCATION:Chinesischer Pavillon
GEO:51.063995;13.824064
URL:https://eventfrog.ch/de/p/klassik-opern/klassik/concerto-im-chinesischen-pavillon-7452683943520808965.html
END:VEVENT
END:VCALENDAR