BEGIN:VCALENDAR
VERSION:2.0
PRODID:EVENTFROG//EVENT//ICAL
BEGIN:VEVENT
UID:20260425T163950Z-7452694244915965817@eventfrog.ch
DTSTAMP:20260425T163950Z
DTSTART:20260903T160000Z
DTEND:20260903T173000Z
SUMMARY:Literatur und Musik im Stiftsgarten: Kate Pearl - Flutterby
DESCRIPTION:Kate Pearl liest und singt im Stiftsgarten aus ihrem Märchenbuch und Album «Flutterby» - eine Geschichte über Tradition und Entwicklung.\n\nhttps://eventfrog.ch/de/p/theater-buehne/lesung/literatur-und-musik-im-stiftsgarten-kate-pearl-flutterby-7452694244915965817.html
LOCATION:Stiftsgarten
GEO:46.946488;7.451249
URL:https://eventfrog.ch/de/p/theater-buehne/lesung/literatur-und-musik-im-stiftsgarten-kate-pearl-flutterby-7452694244915965817.html
END:VEVENT
END:VCALENDAR