BEGIN:VCALENDAR
VERSION:2.0
PRODID:EVENTFROG//EVENT//ICAL
BEGIN:VEVENT
UID:20260425T210232Z-7452699313224857251@eventfrog.ch
DTSTAMP:20260425T210232Z
DTSTART:20261223T140000Z
DTEND:20261223T190000Z
SUMMARY:HOUSE OF MAGIC
DESCRIPTION:Über 110 Exponate laden in 19 Räumen ein, Magie und Wissenschaft zu entdecken und Illusionen mit viel Action zu erleben.\n\nhttps://eventfrog.ch/de/p/freizeit-ausfluege/sonstige-veranstaltungen/house-of-magic-7452699313224857251.html
LOCATION:HOUSE OF MAGIC
GEO:51.491291;6.877462
URL:https://eventfrog.ch/de/p/freizeit-ausfluege/sonstige-veranstaltungen/house-of-magic-7452699313224857251.html
END:VEVENT
END:VCALENDAR