BEGIN:VCALENDAR
VERSION:2.0
PRODID:EVENTFROG//EVENT//ICAL
BEGIN:VEVENT
UID:20260424T063614Z-7452713627667152746@eventfrog.ch
DTSTAMP:20260424T063614Z
DTSTART:20260521T160000Z
DTEND:20260521T173000Z
SUMMARY:Lesekreis "Im Meer waren wir nie"
DESCRIPTION:Der Lesekreis bespricht das Buch "Im Meer waren wir nie" von Meral Kureyshi\n\nhttps://eventfrog.ch/de/p/theater-buehne/lesung/lesekreis-im-meer-waren-wir-nie-7452713627667152746.html
LOCATION:Aargauer Kantonsbibliothek
GEO:47.389723;8.044993
URL:https://eventfrog.ch/de/p/theater-buehne/lesung/lesekreis-im-meer-waren-wir-nie-7452713627667152746.html
END:VEVENT
END:VCALENDAR