BEGIN:VCALENDAR
VERSION:2.0
PRODID:EVENTFROG//EVENT//ICAL
BEGIN:VEVENT
UID:20260424T150431Z-7452733256313606849@eventfrog.ch
DTSTAMP:20260424T150431Z
DTSTART:20260529T120000Z
DTEND:20260530T160000Z
SUMMARY:Innere Ruhe & mentale Ausgeglichenheit - Frauenwochenende
DESCRIPTION:Zweis­tägiges Yoga- und Meditationsretreat für max. 6 Frauen am Zürichsee zur Stressreduktion, für ganzheitliche Erholung und Ausgeglichenheit am Wochenende.\n\nhttps://eventfrog.ch/de/p/gesundheit-spiritualitaet/gesundheit-wohlbefinden/innere-ruhe-mentale-ausgeglichenheit-frauenwochenende-7452733256313606849.html
LOCATION:Rapperswil-Jona
GEO:47.220655;8.865922
URL:https://eventfrog.ch/de/p/gesundheit-spiritualitaet/gesundheit-wohlbefinden/innere-ruhe-mentale-ausgeglichenheit-frauenwochenende-7452733256313606849.html
END:VEVENT
END:VCALENDAR