BEGIN:VCALENDAR
VERSION:2.0
PRODID:EVENTFROG//EVENT//ICAL
BEGIN:VEVENT
UID:20260424T073655Z-7452738247707345740@eventfrog.ch
DTSTAMP:20260424T073655Z
DTSTART:20260427T130000Z
DTEND:20260427T153000Z
SUMMARY:amm Café Med Zürich
DESCRIPTION:Unterstützung bei medizinischen Fragen und Entscheidungen. Ein Angebot für alle, in jedem Alter, zu allen medizinischen Fragen. Ohne Zeitdruck, ohne Voranmeldung, persönlich und kostenlos.\n\nhttps://eventfrog.ch/de/p/gesundheit-spiritualitaet/gesundheit-wohlbefinden/amm-cafe-med-zuerich-7452738247707345740.html
LOCATION:Café Mühlebach
GEO:47.363709;8.552110
URL:https://eventfrog.ch/de/p/gesundheit-spiritualitaet/gesundheit-wohlbefinden/amm-cafe-med-zuerich-7452738247707345740.html
END:VEVENT
END:VCALENDAR