BEGIN:VCALENDAR
VERSION:2.0
PRODID:EVENTFROG//EVENT//ICAL
BEGIN:VEVENT
UID:20260424T073654Z-7452740061945197003@eventfrog.ch
DTSTAMP:20260424T073654Z
DTSTART:20260608T130000Z
DTEND:20260608T153000Z
SUMMARY:amm Café Med Zürich
DESCRIPTION:Unterstützung bei medizinischen Fragen und Entscheidungen. Ein Angebot für alle, in jedem Alter, zu allen medizinischen Fragen. Ohne Zeitdruck, ohne Voranmeldung, persönlich und kostenlos.\n\nhttps://eventfrog.ch/de/p/gesundheit-spiritualitaet/gesundheit-wohlbefinden/amm-cafe-med-zuerich-7452740061945197003.html
LOCATION:Café Mühlebach
GEO:47.363709;8.552110
URL:https://eventfrog.ch/de/p/gesundheit-spiritualitaet/gesundheit-wohlbefinden/amm-cafe-med-zuerich-7452740061945197003.html
END:VEVENT
END:VCALENDAR