BEGIN:VCALENDAR
VERSION:2.0
PRODID:EVENTFROG//EVENT//ICAL
BEGIN:VEVENT
UID:20260424T094231Z-7452774196482980114@eventfrog.ch
DTSTAMP:20260424T094231Z
DTSTART:20260502T220000Z
SUMMARY:RK Afterhour @ Meraki
DESCRIPTION:Ab 24 Uhr spielt der Kulturverein Meraki mit DJs Chandrani, Koalumpa und Luca 500 bis in die frühen Stunden.\n\nhttps://eventfrog.ch/de/p/partys/house-techno/rk-afterhour-meraki-7452774196482980114.html
LOCATION:Meraki
GEO:47.350111;8.329373
URL:https://eventfrog.ch/de/p/partys/house-techno/rk-afterhour-meraki-7452774196482980114.html
END:VEVENT
END:VCALENDAR