BEGIN:VCALENDAR
VERSION:2.0
PRODID:EVENTFROG//EVENT//ICAL
BEGIN:VEVENT
UID:20260425T170231Z-7452796640996378709@eventfrog.ch
DTSTAMP:20260425T170231Z
DTSTART:20260430T171000Z
DTEND:20260430T210000Z
SUMMARY:Twist It! - die Social-Dance-Party der Crazy Shakers
DESCRIPTION:Boogie Woogie Social Dance Party der Crazy Shakers. Vintage-Edition mit gratis Crashkurs!\n\nhttps://eventfrog.ch/de/p/partys/swing/twist-it-die-social-dance-party-der-crazy-shakers-7452796640996378709.html
LOCATION:Club Silbando
GEO:47.392000;8.514990
URL:https://eventfrog.ch/de/p/partys/swing/twist-it-die-social-dance-party-der-crazy-shakers-7452796640996378709.html
END:VEVENT
END:VCALENDAR