BEGIN:VCALENDAR
VERSION:2.0
PRODID:EVENTFROG//EVENT//ICAL
BEGIN:VEVENT
UID:20260424T081845Z-7452800233933636511@eventfrog.ch
DTSTAMP:20260424T081845Z
DTSTART:20260711T170000Z
DTEND:20260711T182000Z
SUMMARY:heimwē – Wie das Heimweh Eingang in die Barockmusik fand
DESCRIPTION:Das Ensemble Le Grand Trianon spielt in einem mitreissenden Programm zum Thema Heimweh barocke Schätze sowie eine Komposition von Andreas Gabriel für zwei Blockflöten, Barockcello, Laute und Cembalo.\n\nhttps://eventfrog.ch/de/p/klassik-opern/klassik/heimw-wie-das-heimweh-eingang-in-die-barockmusik-fand-7452800233933636511.html
LOCATION:Kirche St. Laurentius Oberkirch, Frauenfeld
GEO:47.561370;8.912550
URL:https://eventfrog.ch/de/p/klassik-opern/klassik/heimw-wie-das-heimweh-eingang-in-die-barockmusik-fand-7452800233933636511.html
END:VEVENT
END:VCALENDAR