BEGIN:VCALENDAR
VERSION:2.0
PRODID:EVENTFROG//EVENT//ICAL
BEGIN:VEVENT
UID:20260424T075559Z-7452833405291463649@eventfrog.ch
DTSTAMP:20260424T075559Z
DTSTART:20260613T190000Z
SUMMARY:WM Public Viewing: Katar vs. Schweiz
DESCRIPTION:WM Public Viewing der Schweizer Nati live im Bredella Village in Pratteln.\n\nhttps://eventfrog.ch/de/p/essen-trinken/wm-public-viewing-katar-vs-schweiz-7452833405291463649.html
LOCATION:Bredella Village Pratteln
GEO:47.523460;7.690103
URL:https://eventfrog.ch/de/p/essen-trinken/wm-public-viewing-katar-vs-schweiz-7452833405291463649.html
END:VEVENT
END:VCALENDAR