BEGIN:VCALENDAR
VERSION:2.0
PRODID:EVENTFROG//EVENT//ICAL
BEGIN:VEVENT
UID:20260425T141033Z-7452835040663230887@eventfrog.ch
DTSTAMP:20260425T141033Z
DTSTART:20260510T080000Z
DTEND:20260510T090000Z
SUMMARY:Persönlich
DESCRIPTION:Persönlich\n\nhttps://eventfrog.ch/de/p/diverses/persoenlich-7452835040663230887.html
LOCATION:Kino Roxy
GEO:47.565019;9.374795
URL:https://eventfrog.ch/de/p/diverses/persoenlich-7452835040663230887.html
END:VEVENT
END:VCALENDAR