BEGIN:VCALENDAR
VERSION:2.0
PRODID:EVENTFROG//EVENT//ICAL
BEGIN:VEVENT
UID:20260424T051555Z-7452904234431817563@eventfrog.ch
DTSTAMP:20260424T051555Z
DTSTART:20260512T180000Z
DTEND:20260512T200000Z
SUMMARY:EnsembleCinéMusique Film-Konzert THE MYSTERIOUS LADY mit GRE
DESCRIPTION:THE MYSTERIOUS LADY Stummfilm (1928) Regie Fred Niblo Armin Brunner, Vertonung mit Greta Garbo: Tanja Fedorova Conrad Nagel: Karl von...\n\nhttps://eventfrog.ch/de/p/klassik-opern/klassik/ensemblecinemusique-film-konzert-the-mysterious-lady-mit-gre-7452904234431817563.html
LOCATION:Hotel Hofmatt
GEO:47.519923;7.618039
URL:https://eventfrog.ch/de/p/klassik-opern/klassik/ensemblecinemusique-film-konzert-the-mysterious-lady-mit-gre-7452904234431817563.html
END:VEVENT
END:VCALENDAR