BEGIN:VCALENDAR
VERSION:2.0
PRODID:EVENTFROG//EVENT//ICAL
BEGIN:VEVENT
UID:20260424T081851Z-7452964945820443713@eventfrog.ch
DTSTAMP:20260424T081851Z
DTSTART:20260509T083000Z
DTEND:20260509T150000Z
SUMMARY:7. Drehorgel Festival
DESCRIPTION:18 nationale Drehorgelspieler zeigen Evergreens auf dem Dorfplatz von 10:30 bis 17:00 Uhr.\n\nhttps://eventfrog.ch/de/p/konzerte/weitere-musikrichtungen/7-drehorgel-festival-7452964945820443713.html
LOCATION:Restaurant & Bistro Pyramide
GEO:47.047001;8.373447
URL:https://eventfrog.ch/de/p/konzerte/weitere-musikrichtungen/7-drehorgel-festival-7452964945820443713.html
END:VEVENT
END:VCALENDAR