BEGIN:VCALENDAR
VERSION:2.0
PRODID:EVENTFROG//EVENT//ICAL
BEGIN:VEVENT
UID:20260424T063715Z-7452991671149543342@eventfrog.ch
DTSTAMP:20260424T063715Z
DTSTART:20260607T073000Z
DTEND:20260607T093000Z
SUMMARY:Laugh & Rise - Kakao & Lach Yoga in Winterthur
DESCRIPTION:Lachen befreit und bringt Leichtigkeit & Flow in dein Leben. - Laugh & Rise - Kakao-Ritual & Lach Yoga in Winterthur\n\nhttps://eventfrog.ch/de/p/gesundheit-spiritualitaet/gesundheit-wohlbefinden/laugh-rise-kakao-lach-yoga-in-winterthur-7452991671149543342.html
LOCATION:Soul Atelier Winterthur
GEO:47.496419;8.756648
URL:https://eventfrog.ch/de/p/gesundheit-spiritualitaet/gesundheit-wohlbefinden/laugh-rise-kakao-lach-yoga-in-winterthur-7452991671149543342.html
END:VEVENT
END:VCALENDAR