BEGIN:VCALENDAR
VERSION:2.0
PRODID:EVENTFROG//EVENT//ICAL
BEGIN:VEVENT
UID:20260425T181237Z-7452994019984956230@eventfrog.ch
DTSTAMP:20260425T181237Z
DTSTART:20260530T160000Z
SUMMARY:A Taste of Africa & the Caribbean – Multi-Course Dinner
DESCRIPTION:Enjoy a multi-course seated dinner celebrating African & Caribbean flavours, music, and culture, all in support of the English-speaking congregation of the Geneva Lutheran Church.\n\nhttps://eventfrog.ch/en/p/eating-drinking/a-taste-of-africa-the-caribbean-multi-course-dinner-7452994019984956230.html
LOCATION:Evangelical Lutheran Church of Geneva
GEO:46.201091;6.149646
URL:https://eventfrog.ch/en/p/eating-drinking/a-taste-of-africa-the-caribbean-multi-course-dinner-7452994019984956230.html
END:VEVENT
END:VCALENDAR