BEGIN:VCALENDAR
VERSION:2.0
PRODID:EVENTFROG//EVENT//ICAL
BEGIN:VEVENT
UID:20260424T060757Z-7452996085713225422@eventfrog.ch
DTSTAMP:20260424T060757Z
DTSTART:20260704T160000Z
SUMMARY:Arx-en-ciel Openair Wädenswil
DESCRIPTION:Das einzigartige Openair bringt mit The Gardener & The Tree, Veronica Fusaro, Willy & The Sheiks und Lieber Vier grosse Emotionen und tanzbare Beats auf die Bühne am Zürichsee.\n\nhttps://eventfrog.ch/de/p/konzerte/pop-rock/arx-en-ciel-openair-waedenswil-7452996085713225422.html
LOCATION:Arx-en-ciel Openair
GEO:47.229916;8.675428
URL:https://eventfrog.ch/de/p/konzerte/pop-rock/arx-en-ciel-openair-waedenswil-7452996085713225422.html
END:VEVENT
END:VCALENDAR