BEGIN:VCALENDAR
VERSION:2.0
PRODID:EVENTFROG//EVENT//ICAL
BEGIN:VEVENT
UID:20260424T075617Z-7453002584950898352@eventfrog.ch
DTSTAMP:20260424T075617Z
DTSTART:20260607T173000Z
DTEND:20260607T193000Z
SUMMARY:Is This Anything? - A Comedy Show
DESCRIPTION:Pro comedians! Brand new jokes!\n\nhttps://eventfrog.ch/en/p/theatre-stage/comedy-cabaret/is-this-anything-a-comedy-show-7453002584950898352.html
LOCATION:ManaBar
GEO:47.548390;7.590191
URL:https://eventfrog.ch/en/p/theatre-stage/comedy-cabaret/is-this-anything-a-comedy-show-7453002584950898352.html
END:VEVENT
END:VCALENDAR