BEGIN:VCALENDAR
VERSION:2.0
PRODID:EVENTFROG//EVENT//ICAL
BEGIN:VEVENT
UID:20260424T081819Z-7453005190465079923@eventfrog.ch
DTSTAMP:20260424T081819Z
DTSTART:20260510T150000Z
DTEND:20260510T170000Z
SUMMARY:Concert-hommage à Bernard Reichel
DESCRIPTION:Harmonia Helvetica vous invite à un concert réunissant l’Ensemble Fratres et Simon Peguiron à l’orgue. À l’occasion du 125e anniversaire du compositeur suisse Bernard Reichel.\n\nhttps://eventfrog.ch/fr/p/classique-operas/classique/concert-hommage-a-bernard-reichel-7453005190465079923.html
LOCATION:Temple de Morges
GEO:46.510778;6.500247
URL:https://eventfrog.ch/fr/p/classique-operas/classique/concert-hommage-a-bernard-reichel-7453005190465079923.html
END:VEVENT
END:VCALENDAR