BEGIN:VCALENDAR
VERSION:2.0
PRODID:EVENTFROG//EVENT//ICAL
BEGIN:VEVENT
UID:20260424T075619Z-7453011841343576173@eventfrog.ch
DTSTAMP:20260424T075619Z
DTSTART:20260918T161500Z
DTEND:20260918T171500Z
SUMMARY:Reinhart: Global Risks in a Geopolitically Fragmented World
DESCRIPTION:Prof. Dr. Carmen Reinhart erläutert globale Risiken und deren Folgen für Politik und Märkte an der Reichmuth & Co Lecture No. 28.\n\nhttps://eventfrog.ch/de/p/wissenschaft-und-technik/reinhart-global-risks-in-a-geopolitically-fragmented-world-7453011841343576173.html
LOCATION:Universität Zürich Zentrum
GEO:47.374600;8.548880
URL:https://eventfrog.ch/de/p/wissenschaft-und-technik/reinhart-global-risks-in-a-geopolitically-fragmented-world-7453011841343576173.html
END:VEVENT
END:VCALENDAR