BEGIN:VCALENDAR
VERSION:2.0
PRODID:EVENTFROG//EVENT//ICAL
BEGIN:VEVENT
UID:20260424T055437Z-7453012227618024674@eventfrog.ch
DTSTAMP:20260424T055437Z
DTSTART:20260515T170000Z
DTEND:20260515T230000Z
SUMMARY:DIE PARTY ab 16 Jahren - Stuttgarts angesagteste 16er Party!
DESCRIPTION:Am Freitag startet um 19 Uhr die WTTW Single Party mit farbigen Leuchtarmbändern und Musik von DJ Marc Manella.\n\nhttps://eventfrog.ch/de/p/partys/disco/die-party-ab-16-jahren-stuttgarts-angesagteste-16er-party-7453012227618024674.html
LOCATION:Rumors Club Stuttgart
GEO:48.773139;9.178660
URL:https://eventfrog.ch/de/p/partys/disco/die-party-ab-16-jahren-stuttgarts-angesagteste-16er-party-7453012227618024674.html
END:VEVENT
END:VCALENDAR