BEGIN:VCALENDAR
VERSION:2.0
PRODID:EVENTFROG//EVENT//ICAL
BEGIN:VEVENT
UID:20260424T051620Z-7453054132066189812@eventfrog.ch
DTSTAMP:20260424T051620Z
DTSTART:20260511T173000Z
DTEND:20260511T200000Z
SUMMARY:Sámi-Widerstand gegen globale Rohstoffpolitik – Solidarität
DESCRIPTION:Voices zeigt einen Film über die Konflikte, welche die Sámi aufgrund der Energiewende in ihrem Lebensraum erleben. Anschliessend wird mit Aktivist:innen über Klimapolitik und Widerstand diskutiert.\n\nhttps://eventfrog.ch/de/p/freizeit-ausfluege/film-kino/sami-widerstand-gegen-globale-rohstoffpolitik-solidaritaet-7453054132066189812.html
LOCATION:Cinématte, Bern
GEO:46.946528;7.456345
URL:https://eventfrog.ch/de/p/freizeit-ausfluege/film-kino/sami-widerstand-gegen-globale-rohstoffpolitik-solidaritaet-7453054132066189812.html
END:VEVENT
END:VCALENDAR